BEGIN:VCALENDAR
VERSION:2.0
PRODID:-//Little Rock Air Force Base - ECPv6.15.20//NONSGML v1.0//EN
CALSCALE:GREGORIAN
METHOD:PUBLISH
X-ORIGINAL-URL:https://rockinattherock.com
X-WR-CALDESC:Events for Little Rock Air Force Base
REFRESH-INTERVAL;VALUE=DURATION:PT1H
X-Robots-Tag:noindex
X-PUBLISHED-TTL:PT1H
BEGIN:VTIMEZONE
TZID:UTC
BEGIN:STANDARD
TZOFFSETFROM:+0000
TZOFFSETTO:+0000
TZNAME:UTC
DTSTART:20250101T000000
END:STANDARD
END:VTIMEZONE
BEGIN:VTIMEZONE
TZID:America/Chicago
BEGIN:DAYLIGHT
TZOFFSETFROM:-0600
TZOFFSETTO:-0500
TZNAME:CDT
DTSTART:20250309T080000
END:DAYLIGHT
BEGIN:STANDARD
TZOFFSETFROM:-0500
TZOFFSETTO:-0600
TZNAME:CST
DTSTART:20251102T070000
END:STANDARD
BEGIN:DAYLIGHT
TZOFFSETFROM:-0600
TZOFFSETTO:-0500
TZNAME:CDT
DTSTART:20260308T080000
END:DAYLIGHT
BEGIN:STANDARD
TZOFFSETFROM:-0500
TZOFFSETTO:-0600
TZNAME:CST
DTSTART:20261101T070000
END:STANDARD
BEGIN:DAYLIGHT
TZOFFSETFROM:-0600
TZOFFSETTO:-0500
TZNAME:CDT
DTSTART:20270314T080000
END:DAYLIGHT
BEGIN:STANDARD
TZOFFSETFROM:-0500
TZOFFSETTO:-0600
TZNAME:CST
DTSTART:20271107T070000
END:STANDARD
END:VTIMEZONE
BEGIN:VEVENT
DTSTART;TZID=UTC:20260424T163000
DTEND;TZID=UTC:20260424T173000
DTSTAMP:20260424T113416
CREATED:20260304T154158Z
LAST-MODIFIED:20260304T154158Z
UID:10009139-1777048200-1777051800@rockinattherock.com
SUMMARY:4-H Cooking Club
DESCRIPTION:Let’s Get Cooking with the Youth Center! Join us on the third Friday of each month for a fun\, hands-on cooking session! Learn about kitchen safety\, healthy eating habits\, and more. \nCost is $10 per class or $100 for the whole year. Sign-ups are available through the CYPBMS portal\, and if you don’t have a login yet\, visit www.rockinattherock.com/youth-programs and fill out the form to receive an invite. \nLet’s create something delicious together!
URL:https://rockinattherock.com/event/4-h-cooking-club-2/
LOCATION:YOUTH CENTER\, 1992 Arkansas Blvd\, Little Rock\, AR\, 72099\, United States
ATTACH;FMTTYPE=image/jpeg:https://rockinattherock.com/wp-content/uploads/2026/02/2026_03_YC_CookingClub_Small-scaled.jpg
END:VEVENT
BEGIN:VEVENT
DTSTART;TZID=America/Chicago:20260424T200000
DTEND;TZID=America/Chicago:20260424T230000
DTSTAMP:20260424T113416
CREATED:20240307T131109Z
LAST-MODIFIED:20250123T161627Z
UID:10008451-1777060800-1777071600@rockinattherock.com
SUMMARY:Cosmic Bowling
DESCRIPTION:Have some fun with unlimited bowling\, black lights and great music in a dance club atmosphere! Shoe rentals are included. \n\n\n\n\n\n\n\n\n\n\n\n\n\n 
URL:https://rockinattherock.com/event/cosmic-bowling/2026-04-24/
LOCATION:STRIKE ZONE BOWLING CENTER\, 956 Cannon Circle\, Little Rock\, AR\, 72099\, United States
ATTACH;FMTTYPE=image/jpeg:https://rockinattherock.com/wp-content/uploads/2024/03/2025_Bowling_CosmicBowling_Small-scaled.jpg
END:VEVENT
BEGIN:VEVENT
DTSTART;TZID=UTC:20260425T110000
DTEND;TZID=UTC:20260425T170000
DTSTAMP:20260424T113416
CREATED:20260325T202524Z
LAST-MODIFIED:20260325T202524Z
UID:10009167-1777114800-1777136400@rockinattherock.com
SUMMARY:Roar and Explore Little Rock Zoo
DESCRIPTION:Waddle into adventure this World Penguin Day! \nCelebrate with Outdoor Recreation on a fun-filled trip to the Little Rock Zoo! Explore incredible exhibits featuring over 400 animals from around the world — from the African Savannah to the Great Apes. Don’t miss Penguin Pointe\, where you can watch adorable African penguins swim and play in honor of their special day! \nLooking for hands-on fun? Stop by the Arkansas Heritage Farm to meet and feed friendly farm animals — perfect for all ages! \nTransportation included (participants needing a car-seat must self-transport) \n$10 per person \nRegister by April 22 \nSpots won’t last — sign up now: www.rockinattherock.com/oap
URL:https://rockinattherock.com/event/roar-and-explore-little-rock-zoo/
LOCATION:OUTDOOR RECREATION\, 1075 Cannon Dr. Little Rock AFB\, Little Rock\, AR\, 72099\, United States
ATTACH;FMTTYPE=image/jpeg:https://rockinattherock.com/wp-content/uploads/2026/03/2026_04_25_ODR_RoarExplore_Small-1-scaled.jpg
END:VEVENT
BEGIN:VEVENT
DTSTART;TZID=UTC:20260425T140000
DTEND;TZID=UTC:20260425T160000
DTSTAMP:20260424T113416
CREATED:20260302T213127Z
LAST-MODIFIED:20260302T213127Z
UID:10009133-1777125600-1777132800@rockinattherock.com
SUMMARY:Saturday Family Matinee: Watch a Movie and Bowl
DESCRIPTION:Bring the whole family to the Strike Zone Bowling Center and enjoy unlimited bowling\, a large pizza\, and a soda per person while watching IF for $40. Price covers up to six people and includes shoe rentals.
URL:https://rockinattherock.com/event/saturday-family-matinee-watch-a-movie-and-bowl-12/
LOCATION:STRIKE ZONE BOWLING CENTER\, 956 Cannon Circle\, Little Rock\, AR\, 72099\, United States
ATTACH;FMTTYPE=image/jpeg:https://rockinattherock.com/wp-content/uploads/2026/03/2026_04_Bowling_FamDateNight_MovieSchedule_Small-scaled.jpg
END:VEVENT
BEGIN:VEVENT
DTSTART;TZID=America/Chicago:20260425T200000
DTEND;TZID=America/Chicago:20260425T230000
DTSTAMP:20260424T113416
CREATED:20240830T123903Z
LAST-MODIFIED:20250123T162936Z
UID:10008452-1777147200-1777158000@rockinattherock.com
SUMMARY:Cosmic Bowling
DESCRIPTION:Have some fun with unlimited bowling\, black lights and great music in a dance club atmosphere! Shoe rentals are included. \n\n\n\n\n\n\n\n\n\n\n\n\n\n 
URL:https://rockinattherock.com/event/cosmic-bowling-saturdays/2026-04-25/
LOCATION:STRIKE ZONE BOWLING CENTER\, 956 Cannon Circle\, Little Rock\, AR\, 72099\, United States
ATTACH;FMTTYPE=image/jpeg:https://rockinattherock.com/wp-content/uploads/2024/03/2025_Bowling_CosmicBowling_Small-scaled.jpg
END:VEVENT
BEGIN:VEVENT
DTSTART;TZID=UTC:20260427T163000
DTEND;TZID=UTC:20260427T173000
DTSTAMP:20260424T113416
CREATED:20260325T203000Z
LAST-MODIFIED:20260325T203000Z
UID:10009168-1777307400-1777311000@rockinattherock.com
SUMMARY:Little Rockin' Artists: Sensory Safe
DESCRIPTION:Join us for this free session where we turn the lights down and take some time to decompress with coloring and kinetic sand. Registration deadline is April 24th.
URL:https://rockinattherock.com/event/little-rockin-artists-sensory-safe-4/
LOCATION:Skills Center\, 656 Sixth St.\, Little Rock AFB\, AR\, 72099\, United States
ATTACH;FMTTYPE=image/jpeg:https://rockinattherock.com/wp-content/uploads/2026/03/2026_04_27_Skills_LRASensorySafe_Small-scaled.jpg
END:VEVENT
BEGIN:VEVENT
DTSTART;TZID=UTC:20260429T163000
DTEND;TZID=UTC:20260429T183000
DTSTAMP:20260424T113416
CREATED:20260309T134939Z
LAST-MODIFIED:20260309T134939Z
UID:10009148-1777480200-1777487400@rockinattherock.com
SUMMARY:Deployed Family Dinner
DESCRIPTION:Deployment can be challenging — you don’t have to navigate it alone. \nJoin the Military & Family Readiness Center at The Kenny on April 29 from 4:30–6:30 PM for a Deployed Family Dinner. This special evening is for families with loved ones who are currently deployed\, preparing to deploy\, or who have recently returned. \nConnect with valuable resources\, meet other families who understand the journey\, and enjoy a free dinner together.
URL:https://rockinattherock.com/event/deployed-family-dinner-3/
LOCATION:The Kenny (WCSC)
ATTACH;FMTTYPE=image/jpeg:https://rockinattherock.com/wp-content/uploads/2026/03/2026_04_29_MFRC_DeployedFamilyDinner_Small-scaled.jpg
END:VEVENT
END:VCALENDAR